BEGIN:VCALENDAR
VERSION:2.0
PRODID:-//Le Goût Sauvage - ECPv6.5.0//NONSGML v1.0//EN
CALSCALE:GREGORIAN
METHOD:PUBLISH
X-WR-CALNAME:Le Goût Sauvage
X-ORIGINAL-URL:https://le-gout-sauvage.derwennsoft.bzh
X-WR-CALDESC:évènements pour Le Goût Sauvage
REFRESH-INTERVAL;VALUE=DURATION:PT1H
X-Robots-Tag:noindex
X-PUBLISHED-TTL:PT1H
BEGIN:VTIMEZONE
TZID:Europe/Paris
BEGIN:DAYLIGHT
TZOFFSETFROM:+0100
TZOFFSETTO:+0200
TZNAME:CEST
DTSTART:20240331T010000
END:DAYLIGHT
BEGIN:STANDARD
TZOFFSETFROM:+0200
TZOFFSETTO:+0100
TZNAME:CET
DTSTART:20241027T010000
END:STANDARD
END:VTIMEZONE
BEGIN:VEVENT
DTSTART;TZID=Europe/Paris:20240506T000000
DTEND;TZID=Europe/Paris:20240510T235959
DTSTAMP:20260422T124341
CREATED:20240601T133645Z
LAST-MODIFIED:20240601T135306Z
UID:1030-1714953600-1715385599@le-gout-sauvage.derwennsoft.bzh
SUMMARY:Prestation cuisine privée
DESCRIPTION:Prestation cuisine privée pour un groupe "Bien être" au Gîte la Hulotte
URL:https://le-gout-sauvage.derwennsoft.bzh/evenement/prestation-cuisine-prive
END:VEVENT
END:VCALENDAR