BEGIN:VCALENDAR
VERSION:2.0
PRODID:-//Le Goût Sauvage - ECPv6.5.0//NONSGML v1.0//EN
CALSCALE:GREGORIAN
METHOD:PUBLISH
X-ORIGINAL-URL:https://le-gout-sauvage.derwennsoft.bzh
X-WR-CALDESC:évènements pour Le Goût Sauvage
REFRESH-INTERVAL;VALUE=DURATION:PT1H
X-Robots-Tag:noindex
X-PUBLISHED-TTL:PT1H
BEGIN:VTIMEZONE
TZID:Europe/Paris
BEGIN:DAYLIGHT
TZOFFSETFROM:+0100
TZOFFSETTO:+0200
TZNAME:CEST
DTSTART:20240331T010000
END:DAYLIGHT
BEGIN:STANDARD
TZOFFSETFROM:+0200
TZOFFSETTO:+0100
TZNAME:CET
DTSTART:20241027T010000
END:STANDARD
END:VTIMEZONE
BEGIN:VEVENT
DTSTART;TZID=Europe/Paris:20240511T000000
DTEND;TZID=Europe/Paris:20240512T235959
DTSTAMP:20260422T125812
CREATED:20240601T133737Z
LAST-MODIFIED:20240601T133737Z
UID:1032-1715385600-1715558399@le-gout-sauvage.derwennsoft.bzh
SUMMARY:Restauration publique
DESCRIPTION:Restauration publique pour le Marché Beltaine au Château de Comper en Brocéliande
URL:https://le-gout-sauvage.derwennsoft.bzh/evenement/restauration-publique
END:VEVENT
END:VCALENDAR