BEGIN:VCALENDAR
VERSION:2.0
PRODID:-//Le Goût Sauvage - ECPv6.5.0//NONSGML v1.0//EN
CALSCALE:GREGORIAN
METHOD:PUBLISH
X-ORIGINAL-URL:https://le-gout-sauvage.derwennsoft.bzh
X-WR-CALDESC:évènements pour Le Goût Sauvage
REFRESH-INTERVAL;VALUE=DURATION:PT1H
X-Robots-Tag:noindex
X-PUBLISHED-TTL:PT1H
BEGIN:VTIMEZONE
TZID:Europe/Paris
BEGIN:DAYLIGHT
TZOFFSETFROM:+0100
TZOFFSETTO:+0200
TZNAME:CEST
DTSTART:20240331T010000
END:DAYLIGHT
BEGIN:STANDARD
TZOFFSETFROM:+0200
TZOFFSETTO:+0100
TZNAME:CET
DTSTART:20241027T010000
END:STANDARD
END:VTIMEZONE
BEGIN:VEVENT
DTSTART;TZID=Europe/Paris:20240513T000000
DTEND;TZID=Europe/Paris:20240517T235959
DTSTAMP:20260422T113120
CREATED:20240601T133819Z
LAST-MODIFIED:20240601T135244Z
UID:1034-1715558400-1715990399@le-gout-sauvage.derwennsoft.bzh
SUMMARY:Prestation cuisine privée
DESCRIPTION:Prestation cuisine privée pour un groupe "éthologie équine" CNRS
URL:https://le-gout-sauvage.derwennsoft.bzh/evenement/prestation-cuisine-prive-2
END:VEVENT
END:VCALENDAR