BEGIN:VCALENDAR
VERSION:2.0
PRODID:-//Le Goût Sauvage - ECPv6.5.0//NONSGML v1.0//EN
CALSCALE:GREGORIAN
METHOD:PUBLISH
X-WR-CALNAME:Le Goût Sauvage
X-ORIGINAL-URL:https://le-gout-sauvage.derwennsoft.bzh
X-WR-CALDESC:évènements pour Le Goût Sauvage
REFRESH-INTERVAL;VALUE=DURATION:PT1H
X-Robots-Tag:noindex
X-PUBLISHED-TTL:PT1H
BEGIN:VTIMEZONE
TZID:Europe/Paris
BEGIN:DAYLIGHT
TZOFFSETFROM:+0100
TZOFFSETTO:+0200
TZNAME:CEST
DTSTART:20240331T010000
END:DAYLIGHT
BEGIN:STANDARD
TZOFFSETFROM:+0200
TZOFFSETTO:+0100
TZNAME:CET
DTSTART:20241027T010000
END:STANDARD
END:VTIMEZONE
BEGIN:VEVENT
DTSTART;TZID=Europe/Paris:20240825T000000
DTEND;TZID=Europe/Paris:20240831T235959
DTSTAMP:20260422T032214
CREATED:20240601T134242Z
LAST-MODIFIED:20240601T134242Z
UID:1045-1724544000-1725148799@le-gout-sauvage.derwennsoft.bzh
SUMMARY:Prestation cuisine privée
DESCRIPTION:Prestation cuisine privé pour un Groupe au Gite la Hulotte à St. Malon sur Mel
URL:https://le-gout-sauvage.derwennsoft.bzh/evenement/prestation-cuisine-privee-2
END:VEVENT
END:VCALENDAR