BEGIN:VCALENDAR
VERSION:2.0
PRODID:-//Le Goût Sauvage - ECPv6.5.0//NONSGML v1.0//EN
CALSCALE:GREGORIAN
METHOD:PUBLISH
X-ORIGINAL-URL:https://le-gout-sauvage.derwennsoft.bzh
X-WR-CALDESC:évènements pour Le Goût Sauvage
REFRESH-INTERVAL;VALUE=DURATION:PT1H
X-Robots-Tag:noindex
X-PUBLISHED-TTL:PT1H
BEGIN:VTIMEZONE
TZID:Europe/Paris
BEGIN:DAYLIGHT
TZOFFSETFROM:+0100
TZOFFSETTO:+0200
TZNAME:CEST
DTSTART:20240331T010000
END:DAYLIGHT
BEGIN:STANDARD
TZOFFSETFROM:+0200
TZOFFSETTO:+0100
TZNAME:CET
DTSTART:20241027T010000
END:STANDARD
END:VTIMEZONE
BEGIN:VEVENT
DTSTART;TZID=Europe/Paris:20240526T000000
DTEND;TZID=Europe/Paris:20240601T235959
DTSTAMP:20260422T102456
CREATED:20240601T133855Z
LAST-MODIFIED:20240601T135210Z
UID:1036-1716681600-1717286399@le-gout-sauvage.derwennsoft.bzh
SUMMARY:Prestation cuisine privée
DESCRIPTION:Prestation cuisine privée pour un groupe
URL:https://le-gout-sauvage.derwennsoft.bzh/evenement/prestation-cuisine-prive-3
END:VEVENT
BEGIN:VEVENT
DTSTART;TZID=Europe/Paris:20240611T090000
DTEND;TZID=Europe/Paris:20240614T180000
DTSTAMP:20260422T102456
CREATED:20240610T123002Z
LAST-MODIFIED:20240611T074128Z
UID:1069-1718096400-1718388000@le-gout-sauvage.derwennsoft.bzh
SUMMARY:Prestation cuisine privée le nouveau
DESCRIPTION:  \nPrestation cuisine privé pour un Groupe au Gite la Hulotte à St. Malon sur Mel
URL:https://le-gout-sauvage.derwennsoft.bzh/evenement/prestation-cuisine-privee-le-nouveau
ATTACH;FMTTYPE=image/jpeg:https://le-gout-sauvage.derwennsoft.bzh/wp-content/uploads/2024/05/Atelier-culinaire-Le-Gout-Sauvage_reduit3.jpg
END:VEVENT
BEGIN:VEVENT
DTSTART;TZID=Europe/Paris:20240618T090000
DTEND;TZID=Europe/Paris:20240619T180000
DTSTAMP:20260422T102456
CREATED:20240611T075626Z
LAST-MODIFIED:20240611T075626Z
UID:1074-1718701200-1718820000@le-gout-sauvage.derwennsoft.bzh
SUMMARY:Prestation cuisine privée le nouveau 2
DESCRIPTION:  \nPrestation cuisine privé pour un Groupe au Gite la Hulotte à St. Malon sur Mel
URL:https://le-gout-sauvage.derwennsoft.bzh/evenement/prestation-cuisine-privee-le-nouveau-2
ATTACH;FMTTYPE=image/jpeg:https://le-gout-sauvage.derwennsoft.bzh/wp-content/uploads/2024/05/Atelier-culinaire-Le-Gout-Sauvage_reduit3.jpg
END:VEVENT
BEGIN:VEVENT
DTSTART;TZID=Europe/Paris:20240623T000000
DTEND;TZID=Europe/Paris:20240629T235959
DTSTAMP:20260422T102456
CREATED:20240601T133947Z
LAST-MODIFIED:20240601T134033Z
UID:1038-1719100800-1719705599@le-gout-sauvage.derwennsoft.bzh
SUMMARY:Prestation cuisine privée
DESCRIPTION:Prestation cuisine privée pour un groupe
URL:https://le-gout-sauvage.derwennsoft.bzh/evenement/prestation-cuisine
END:VEVENT
END:VCALENDAR