BEGIN:VCALENDAR
VERSION:2.0
PRODID:-//Le Goût Sauvage - ECPv6.5.0//NONSGML v1.0//EN
CALSCALE:GREGORIAN
METHOD:PUBLISH
X-ORIGINAL-URL:https://le-gout-sauvage.derwennsoft.bzh
X-WR-CALDESC:évènements pour Le Goût Sauvage
REFRESH-INTERVAL;VALUE=DURATION:PT1H
X-Robots-Tag:noindex
X-PUBLISHED-TTL:PT1H
BEGIN:VTIMEZONE
TZID:Europe/Paris
BEGIN:DAYLIGHT
TZOFFSETFROM:+0100
TZOFFSETTO:+0200
TZNAME:CEST
DTSTART:20240331T010000
END:DAYLIGHT
BEGIN:STANDARD
TZOFFSETFROM:+0200
TZOFFSETTO:+0100
TZNAME:CET
DTSTART:20241027T010000
END:STANDARD
END:VTIMEZONE
BEGIN:VEVENT
DTSTART;TZID=Europe/Paris:20241016T000000
DTEND;TZID=Europe/Paris:20241016T235959
DTSTAMP:20260421T230237
CREATED:20240601T134444Z
LAST-MODIFIED:20240601T134444Z
UID:1051-1729036800-1729123199@le-gout-sauvage.derwennsoft.bzh
SUMMARY:Atelier cuisine Fermentation
DESCRIPTION:Atelier cuisine Fermentation au Centre social Ty Mozaik à Guer (inscription pas encore ouvertes)
URL:https://le-gout-sauvage.derwennsoft.bzh/evenement/atelier-cuisine-fermentation
END:VEVENT
END:VCALENDAR